BEGIN:VCALENDAR
VERSION:2.0
PRODID:-// - ECPv6.15.20//NONSGML v1.0//EN
CALSCALE:GREGORIAN
METHOD:PUBLISH
X-ORIGINAL-URL:https://ndct.co.uk
X-WR-CALDESC:Events for 
REFRESH-INTERVAL;VALUE=DURATION:PT1H
X-Robots-Tag:noindex
X-PUBLISHED-TTL:PT1H
BEGIN:VTIMEZONE
TZID:Europe/London
BEGIN:DAYLIGHT
TZOFFSETFROM:+0000
TZOFFSETTO:+0100
TZNAME:BST
DTSTART:20220327T010000
END:DAYLIGHT
BEGIN:STANDARD
TZOFFSETFROM:+0100
TZOFFSETTO:+0000
TZNAME:GMT
DTSTART:20221030T010000
END:STANDARD
BEGIN:DAYLIGHT
TZOFFSETFROM:+0000
TZOFFSETTO:+0100
TZNAME:BST
DTSTART:20230326T010000
END:DAYLIGHT
BEGIN:STANDARD
TZOFFSETFROM:+0100
TZOFFSETTO:+0000
TZNAME:GMT
DTSTART:20231029T010000
END:STANDARD
BEGIN:DAYLIGHT
TZOFFSETFROM:+0000
TZOFFSETTO:+0100
TZNAME:BST
DTSTART:20240331T010000
END:DAYLIGHT
BEGIN:STANDARD
TZOFFSETFROM:+0100
TZOFFSETTO:+0000
TZNAME:GMT
DTSTART:20241027T010000
END:STANDARD
END:VTIMEZONE
BEGIN:VEVENT
DTSTART;VALUE=DATE:20230405
DTEND;VALUE=DATE:20230406
DTSTAMP:20260421T084106
CREATED:20221212T101321Z
LAST-MODIFIED:20221212T101321Z
UID:1522-1680652800-1680739199@ndct.co.uk
SUMMARY:1881 - TAUNTON
DESCRIPTION:1881 – TAUNTON\nJoin us for a visit to Taunton today. Plenty of shops including Marks and Spencer\, Lakeland and many more\, plus a good choice of restaurants and cafes for lunch. Pick ups from 10.00am.\nScooter Hire: Shopmobility Taunton 01823 327900\nAccessibility: Some walking and steps\, but fairly level around the centre.
URL:https://ndct.co.uk/event/1881-taunton
END:VEVENT
BEGIN:VEVENT
DTSTART;VALUE=DATE:20230412
DTEND;VALUE=DATE:20230413
DTSTAMP:20260421T084106
CREATED:20221212T101511Z
LAST-MODIFIED:20221212T101511Z
UID:1526-1681257600-1681343999@ndct.co.uk
SUMMARY:1883  - THE MASON ARMS/ALMONDSBURY GARDEN CENTRE
DESCRIPTION:1883 – THE MASON ARMS/ALMONDSBURY GARDEN CENTRE\nA return to another favourite today\, a good choice of dishes\, including the carvery\, fish and chips\, burgers\, pizzas and vegetarian and vegan options. We will also call into Almondsbury Garden Centre for a chance to browse the good selection of plants and their home and gift sections. Pick ups from 10.30am.\nScooter Hire: N/A Accessibility: Fully accessible.
URL:https://ndct.co.uk/event/1883-the-mason-arms-almondsbury-garden-centre
ATTACH;FMTTYPE=image/jpeg:https://ndct.co.uk/wp-content/uploads/2021/08/Masons-Arms.jpg
END:VEVENT
BEGIN:VEVENT
DTSTART;VALUE=DATE:20230413
DTEND;VALUE=DATE:20230414
DTSTAMP:20260421T084106
CREATED:20221212T103419Z
LAST-MODIFIED:20221212T103419Z
UID:1528-1681344000-1681430399@ndct.co.uk
SUMMARY:1884 - LABELS OUTLET SHOPPING\, ROSS ON WYE
DESCRIPTION:1884 – LABELS OUTLET SHOPPING\, ROSS ON WYE\nOur regular trip to this favourite outlet. Enjoy lunch in the café. Pick ups from 10.00 am.\nScooter Hire: Complimentary wheelchairs available. Call 01989 769000 for details.\nAccessibility: Level access and lift to second floor.
URL:https://ndct.co.uk/event/1884-labels-outlet-shopping-ross-on-wye
ATTACH;FMTTYPE=image/jpeg:https://ndct.co.uk/wp-content/uploads/2021/07/Labels.jpg
END:VEVENT
BEGIN:VEVENT
DTSTART;VALUE=DATE:20230419
DTEND;VALUE=DATE:20230420
DTSTAMP:20260421T084106
CREATED:20221212T103500Z
LAST-MODIFIED:20221212T103500Z
UID:1530-1681862400-1681948799@ndct.co.uk
SUMMARY:1885 - MALL CRIBBS CAUSEWAY
DESCRIPTION:1885 – MALL CRIBBS CAUSEWAY\nA trip to The Mall today. Happy to drop you at either M&S or John Lewis. Pick ups from 10.30 am.\nScooter Hire: Free hire available from Accessibility on the lower level of Car Park K next to bus station\, or call them on 0117 915 5326.\nAccessibility: Fully accessible and level with lifts available at either end of The Mall.
URL:https://ndct.co.uk/event/1885-mall-cribbs-causeway
ATTACH;FMTTYPE=image/jpeg:https://ndct.co.uk/wp-content/uploads/2021/08/The-Mall-Cribbs-Causeway.jpg
END:VEVENT
BEGIN:VEVENT
DTSTART;VALUE=DATE:20230420
DTEND;VALUE=DATE:20230421
DTSTAMP:20260421T084106
CREATED:20221212T103538Z
LAST-MODIFIED:20221212T103538Z
UID:1532-1681948800-1682035199@ndct.co.uk
SUMMARY:1886 - WESTON-SUPER-MARE
DESCRIPTION:1886 – WESTON-SUPER-MARE\nEnjoy the sea air at Weston or an afternoon of shopping in the Sovereign Centre. Pick ups from 10.30am.\nScooter Hire: no longer available at the Sovereign centre.\nAccessibility: Fully accessible.
URL:https://ndct.co.uk/event/1886-weston-super-mare
ATTACH;FMTTYPE=image/jpeg:https://ndct.co.uk/wp-content/uploads/2021/07/Pier-at-WSM.jpg
END:VEVENT
BEGIN:VEVENT
DTSTART;VALUE=DATE:20230420
DTEND;VALUE=DATE:20230421
DTSTAMP:20260421T084106
CREATED:20221212T103626Z
LAST-MODIFIED:20221212T103626Z
UID:1534-1681948800-1682035199@ndct.co.uk
SUMMARY:1887 - CARDIFF
DESCRIPTION:1887 – CARDIFF\nJoin us for a visit to Cardiff today. Plenty of shopping including Marks and Spencer and John Lewis\, and a choice of places for lunch and coffee. Pick ups from 10.00am.\nScooter Hire: Contact Cardiff Shopmobility 029 2039 9355\nAccessibility: Fully accessible.
URL:https://ndct.co.uk/event/1887-cardiff
END:VEVENT
END:VCALENDAR